BEGIN:VCALENDAR
VERSION:2.0
PRODID:-//Rotary Club of Locks Heath - ECPv6.15.18//NONSGML v1.0//EN
CALSCALE:GREGORIAN
METHOD:PUBLISH
X-ORIGINAL-URL:https://www.locksheathrotary.org.uk
X-WR-CALDESC:Events for Rotary Club of Locks Heath
REFRESH-INTERVAL;VALUE=DURATION:PT1H
X-Robots-Tag:noindex
X-PUBLISHED-TTL:PT1H
BEGIN:VTIMEZONE
TZID:Europe/London
BEGIN:DAYLIGHT
TZOFFSETFROM:+0000
TZOFFSETTO:+0100
TZNAME:BST
DTSTART:20200329T010000
END:DAYLIGHT
BEGIN:STANDARD
TZOFFSETFROM:+0100
TZOFFSETTO:+0000
TZNAME:GMT
DTSTART:20201025T010000
END:STANDARD
BEGIN:DAYLIGHT
TZOFFSETFROM:+0000
TZOFFSETTO:+0100
TZNAME:BST
DTSTART:20210328T010000
END:DAYLIGHT
BEGIN:STANDARD
TZOFFSETFROM:+0100
TZOFFSETTO:+0000
TZNAME:GMT
DTSTART:20211031T010000
END:STANDARD
BEGIN:DAYLIGHT
TZOFFSETFROM:+0000
TZOFFSETTO:+0100
TZNAME:BST
DTSTART:20220327T010000
END:DAYLIGHT
BEGIN:STANDARD
TZOFFSETFROM:+0100
TZOFFSETTO:+0000
TZNAME:GMT
DTSTART:20221030T010000
END:STANDARD
END:VTIMEZONE
BEGIN:VEVENT
DTSTART;TZID=Europe/London:20210304T190000
DTEND;TZID=Europe/London:20210304T203000
DTSTAMP:20260423T120047
CREATED:20201215T203458Z
LAST-MODIFIED:20210129T161854Z
UID:595-1614884400-1614889800@www.locksheathrotary.org.uk
SUMMARY:Club Virtual Meeting
DESCRIPTION:Talk on Round Britain Rail Tour by Phil Godfrey
URL:https://www.locksheathrotary.org.uk/event/club-virtual-meeting-5/
CATEGORIES:Rotary Meetings
END:VEVENT
BEGIN:VEVENT
DTSTART;TZID=Europe/London:20210318T190000
DTEND;TZID=Europe/London:20210318T203000
DTSTAMP:20260423T120047
CREATED:20210129T162005Z
LAST-MODIFIED:20210129T162031Z
UID:600-1616094000-1616099400@www.locksheathrotary.org.uk
SUMMARY:Club Virtual Meeting
DESCRIPTION:
URL:https://www.locksheathrotary.org.uk/event/club-virtual-meeting-6/
CATEGORIES:Rotary Meetings
END:VEVENT
END:VCALENDAR