BEGIN:VCALENDAR
VERSION:2.0
PRODID:-//Rotary Club of Locks Heath - ECPv6.15.18//NONSGML v1.0//EN
CALSCALE:GREGORIAN
METHOD:PUBLISH
X-WR-CALNAME:Rotary Club of Locks Heath
X-ORIGINAL-URL:https://www.locksheathrotary.org.uk
X-WR-CALDESC:Events for Rotary Club of Locks Heath
REFRESH-INTERVAL;VALUE=DURATION:PT1H
X-Robots-Tag:noindex
X-PUBLISHED-TTL:PT1H
BEGIN:VTIMEZONE
TZID:Europe/London
BEGIN:DAYLIGHT
TZOFFSETFROM:+0000
TZOFFSETTO:+0100
TZNAME:BST
DTSTART:20200329T010000
END:DAYLIGHT
BEGIN:STANDARD
TZOFFSETFROM:+0100
TZOFFSETTO:+0000
TZNAME:GMT
DTSTART:20201025T010000
END:STANDARD
BEGIN:DAYLIGHT
TZOFFSETFROM:+0000
TZOFFSETTO:+0100
TZNAME:BST
DTSTART:20210328T010000
END:DAYLIGHT
BEGIN:STANDARD
TZOFFSETFROM:+0100
TZOFFSETTO:+0000
TZNAME:GMT
DTSTART:20211031T010000
END:STANDARD
BEGIN:DAYLIGHT
TZOFFSETFROM:+0000
TZOFFSETTO:+0100
TZNAME:BST
DTSTART:20220327T010000
END:DAYLIGHT
BEGIN:STANDARD
TZOFFSETFROM:+0100
TZOFFSETTO:+0000
TZNAME:GMT
DTSTART:20221030T010000
END:STANDARD
END:VTIMEZONE
BEGIN:VEVENT
DTSTART;TZID=Europe/London:20210107T180000
DTEND;TZID=Europe/London:20210107T190000
DTSTAMP:20260423T153931
CREATED:20201203T193721Z
LAST-MODIFIED:20201203T193721Z
UID:584-1610042400-1610046000@www.locksheathrotary.org.uk
SUMMARY:Virtual Council Meeting
DESCRIPTION:
URL:https://www.locksheathrotary.org.uk/event/virtual-council-meeting/
END:VEVENT
BEGIN:VEVENT
DTSTART;TZID=Europe/London:20210107T190000
DTEND;TZID=Europe/London:20210107T210000
DTSTAMP:20260423T153931
CREATED:20200905T205140Z
LAST-MODIFIED:20201215T203056Z
UID:539-1610046000-1610053200@www.locksheathrotary.org.uk
SUMMARY:Club Virtual Meeting with Combatoire India
DESCRIPTION:
URL:https://www.locksheathrotary.org.uk/event/club-meeting-4/
CATEGORIES:Rotary Meetings
END:VEVENT
BEGIN:VEVENT
DTSTART;TZID=Europe/London:20210121T190000
DTEND;TZID=Europe/London:20210121T210000
DTSTAMP:20260423T153931
CREATED:20200905T210252Z
LAST-MODIFIED:20200923T142741Z
UID:546-1611255600-1611262800@www.locksheathrotary.org.uk
SUMMARY:Club Virtual Meeting\, Business
DESCRIPTION:
URL:https://www.locksheathrotary.org.uk/event/club-meeting-business/
CATEGORIES:Rotary Meetings
END:VEVENT
END:VCALENDAR