BEGIN:VCALENDAR
VERSION:2.0
PRODID:-//Rotary Club of Locks Heath - ECPv6.15.18//NONSGML v1.0//EN
CALSCALE:GREGORIAN
METHOD:PUBLISH
X-ORIGINAL-URL:https://www.locksheathrotary.org.uk
X-WR-CALDESC:Events for Rotary Club of Locks Heath
REFRESH-INTERVAL;VALUE=DURATION:PT1H
X-Robots-Tag:noindex
X-PUBLISHED-TTL:PT1H
BEGIN:VTIMEZONE
TZID:Europe/London
BEGIN:DAYLIGHT
TZOFFSETFROM:+0000
TZOFFSETTO:+0100
TZNAME:BST
DTSTART:20190331T010000
END:DAYLIGHT
BEGIN:STANDARD
TZOFFSETFROM:+0100
TZOFFSETTO:+0000
TZNAME:GMT
DTSTART:20191027T010000
END:STANDARD
BEGIN:DAYLIGHT
TZOFFSETFROM:+0000
TZOFFSETTO:+0100
TZNAME:BST
DTSTART:20200329T010000
END:DAYLIGHT
BEGIN:STANDARD
TZOFFSETFROM:+0100
TZOFFSETTO:+0000
TZNAME:GMT
DTSTART:20201025T010000
END:STANDARD
BEGIN:DAYLIGHT
TZOFFSETFROM:+0000
TZOFFSETTO:+0100
TZNAME:BST
DTSTART:20210328T010000
END:DAYLIGHT
BEGIN:STANDARD
TZOFFSETFROM:+0100
TZOFFSETTO:+0000
TZNAME:GMT
DTSTART:20211031T010000
END:STANDARD
END:VTIMEZONE
BEGIN:VEVENT
DTSTART;TZID=Europe/London:20200804T190000
DTEND;TZID=Europe/London:20200804T190000
DTSTAMP:20260425T130139
CREATED:20200629T151806Z
LAST-MODIFIED:20200629T152426Z
UID:264-1596567600-1596567600@www.locksheathrotary.org.uk
SUMMARY:Business Meeting
DESCRIPTION:
URL:https://www.locksheathrotary.org.uk/event/business-meeting/
CATEGORIES:Rotary Meetings
END:VEVENT
BEGIN:VEVENT
DTSTART;TZID=Europe/London:20200818T190000
DTEND;TZID=Europe/London:20200818T190000
DTSTAMP:20260425T130139
CREATED:20200629T153021Z
LAST-MODIFIED:20200812T152642Z
UID:276-1597777200-1597777200@www.locksheathrotary.org.uk
SUMMARY:Club Virtual Meeting
DESCRIPTION:
URL:https://www.locksheathrotary.org.uk/event/club-meeting-2/
CATEGORIES:Rotary Meetings
END:VEVENT
END:VCALENDAR